BEGIN:VCALENDAR
PRODID:-//http://statistik.d-u-v.org//PHP ultracalendar//EN
VERSION:2.0
METHOD:PUBLISH
BEGIN:VEVENT
DTSTAMP:20260423T012357
CREATED:20230801T042935
UID:1776907437.0.82176300-99920@statistik.d-u-v.org
SUMMARY:Ushuaia Ultra Trail Race
DESCRIPTION: Ushuaia Ultra Trail Race\n
  \n
  ushuaiatrailrace[at]gmail.com
DTSTART:20221210T050000
DTEND:00000000T235900
LOCATION:Ushuaia\, ARG
URL:http://ushuaiatrailrace.com/
CATEGORIES:Ultramarathon
CONTACT:
CLASS:PUBLIC
PRIORITY:5
TRANSP:OPAQUE
END:VEVENT
END:VCALENDAR
