BEGIN:VCALENDAR
PRODID:-//http://statistik.d-u-v.org//PHP ultracalendar//EN
VERSION:2.0
METHOD:PUBLISH
BEGIN:VEVENT
DTSTAMP:20260424T201139
CREATED:20230731T150006
UID:1777061499.0.92169600-99894@statistik.d-u-v.org
SUMMARY:Pedra do Báu - Ultra Trail 80K
DESCRIPTION: Pedra do Báu - Ultra Trail 80K\n
  Gustavo Nogueira\n
  sp[at]indomit.com.br
DTSTART:20210612T070000
DTEND:20210613T010000
LOCATION:Sao Bento do Sapucai\, BRA
URL:http://bombinhasrunners.com.br/saobento/
CATEGORIES:Ultramarathon
CONTACT:Gustavo Nogueira
CLASS:PUBLIC
PRIORITY:5
TRANSP:OPAQUE
END:VEVENT
END:VCALENDAR
