BEGIN:VCALENDAR
PRODID:-//http://statistik.d-u-v.org//PHP ultracalendar//EN
VERSION:2.0
METHOD:PUBLISH
BEGIN:VEVENT
DTSTAMP:20260423T043529
CREATED:20230731T144331
UID:1776918929.0.81131400-99891@statistik.d-u-v.org
SUMMARY:Mons Ultra Trail
DESCRIPTION: Mons Ultra Trail\n
  \n
  info[at]monsultratrail.com.br
DTSTART:20210925T060000
DTEND:00000000T235900
LOCATION:Nova Trento\, BRA
URL:https://www.ticketsports.com.br/e/mons-ultra-trail-2023-35230
CATEGORIES:Ultramarathon
CONTACT:
CLASS:PUBLIC
PRIORITY:5
TRANSP:OPAQUE
END:VEVENT
END:VCALENDAR
