BEGIN:VCALENDAR
PRODID:-//http://statistik.d-u-v.org//PHP ultracalendar//EN
VERSION:2.0
METHOD:PUBLISH
BEGIN:VEVENT
DTSTAMP:20260423T033706
CREATED:20230729T094253
UID:1776915426.0.47868300-99769@statistik.d-u-v.org
SUMMARY:SF Half Day 6h
DESCRIPTION: SF Half Day 6h\n
  \n
  events[at]coastaltrailruns.com
DTSTART:20230617T090000
DTEND:00000000T235900
LOCATION:San Francisco, CA\, USA
URL:http://www.coastaltrailruns.com/sfod_sf_one_day.html
CATEGORIES:Ultramarathon
CONTACT:
CLASS:PUBLIC
PRIORITY:5
TRANSP:OPAQUE
END:VEVENT
END:VCALENDAR
