BEGIN:VCALENDAR
PRODID:-//http://statistik.d-u-v.org//PHP ultracalendar//EN
VERSION:2.0
METHOD:PUBLISH
BEGIN:VEVENT
DTSTAMP:20260419T223149
CREATED:20110201T173318
UID:1776637909.0.15116700-9976@statistik.d-u-v.org
SUMMARY:Xstrata Longtom Ultra Marathon 56km
DESCRIPTION: Xstrata Longtom Ultra Marathon 56km\n
  Loma van der Walt\n
  loma[at]antsevents.com
DTSTART:20110326T000000
DTEND:00000000T235900
LOCATION:Sabie, Mpumalanga\, RSA
URL:http://www.longtominfo.co.za/
CATEGORIES:Ultramarathon
CONTACT:Loma van der Walt
CLASS:PUBLIC
PRIORITY:5
TRANSP:OPAQUE
END:VEVENT
END:VCALENDAR
