BEGIN:VCALENDAR
PRODID:-//http://statistik.d-u-v.org//PHP ultracalendar//EN
VERSION:2.0
METHOD:PUBLISH
BEGIN:VEVENT
DTSTAMP:20260422T205958
CREATED:20230726T125503
UID:1776891598.0.38526100-99712@statistik.d-u-v.org
SUMMARY:Tuttlinger Backyard Ultra
DESCRIPTION: Tuttlinger Backyard Ultra\n
  Thomas Heizmann\n
  heizmann[at]tsftut.de
DTSTART:20230923T090000
DTEND:00000000T235900
LOCATION:Tuttlingen\, GER
URL:https://tsftut.de/index.php/veranstaltungen/tuttlinger-backyard-ultra
CATEGORIES:Ultramarathon
CONTACT:Thomas Heizmann
CLASS:PUBLIC
PRIORITY:5
TRANSP:OPAQUE
END:VEVENT
END:VCALENDAR
