BEGIN:VCALENDAR
PRODID:-//http://statistik.d-u-v.org//PHP ultracalendar//EN
VERSION:2.0
METHOD:PUBLISH
BEGIN:VEVENT
DTSTAMP:20260423T002750
CREATED:20230725T161035
UID:1776904070.0.22635100-99678@statistik.d-u-v.org
SUMMARY:Big Day out - The Crossing
DESCRIPTION: Big Day out - The Crossing\n
  Mark (race director)\n
  outeredgedirect[at]gmail.com
DTSTART:20230812T090000
DTEND:00000000T235900
LOCATION:Belstone\, GBR
URL:https://outeredge-events.com/bigdayout/
CATEGORIES:Ultramarathon
CONTACT:Mark (race director)
CLASS:PUBLIC
PRIORITY:5
TRANSP:OPAQUE
END:VEVENT
END:VCALENDAR
