BEGIN:VCALENDAR
PRODID:-//http://statistik.d-u-v.org//PHP ultracalendar//EN
VERSION:2.0
METHOD:PUBLISH
BEGIN:VEVENT
DTSTAMP:20260420T054808
CREATED:20230722T204223
UID:1776664088.0.07839800-99646@statistik.d-u-v.org
SUMMARY:Lustrafjorden Inn Ultra 95km
DESCRIPTION: Lustrafjorden Inn Ultra 95km\n
  \n
  magne@kvalsoren.no
DTSTART:20230701T010000
DTEND:00000000T235900
LOCATION:Luster\, NOR
URL:https://www.lustrafjordeninn.no/
CATEGORIES:Ultramarathon
CONTACT:
CLASS:PUBLIC
PRIORITY:5
TRANSP:OPAQUE
END:VEVENT
END:VCALENDAR
