BEGIN:VCALENDAR
PRODID:-//http://statistik.d-u-v.org//PHP ultracalendar//EN
VERSION:2.0
METHOD:PUBLISH
BEGIN:VEVENT
DTSTAMP:20260419T183355
CREATED:20230722T164153
UID:1776623635.0.37006000-99639@statistik.d-u-v.org
SUMMARY:VAM6
DESCRIPTION: VAM6\n
  Winfried Bats\n
  info[at]runforestrun.nl
DTSTART:20230513T093000
DTEND:00000000T235900
LOCATION:Wijster\, NED
URL:https://runforestrun.nl/vam12
CATEGORIES:Ultramarathon
CONTACT:Winfried Bats
CLASS:PUBLIC
PRIORITY:5
TRANSP:OPAQUE
END:VEVENT
END:VCALENDAR
