BEGIN:VCALENDAR
PRODID:-//http://statistik.d-u-v.org//PHP ultracalendar//EN
VERSION:2.0
METHOD:PUBLISH
BEGIN:VEVENT
DTSTAMP:20260422T044119
CREATED:20230720T100840
UID:1776832879.0.79116100-99608@statistik.d-u-v.org
SUMMARY:Hofer Backyard Ultra
DESCRIPTION: Hofer Backyard Ultra\n
  \n
  admin[at]hofer-backyard-ultra.de
DTSTART:20240622T090000
DTEND:00000000T235900
LOCATION:Hof\, GER
URL:https://www.hofer-backyard-ultra.de/
CATEGORIES:Ultramarathon
CONTACT:
CLASS:PUBLIC
PRIORITY:5
TRANSP:OPAQUE
END:VEVENT
END:VCALENDAR
