BEGIN:VCALENDAR
PRODID:-//http://statistik.d-u-v.org//PHP ultracalendar//EN
VERSION:2.0
METHOD:PUBLISH
BEGIN:VEVENT
DTSTAMP:20260420T133320
CREATED:20230719T113844
UID:1776692000.0.90371200-99590@statistik.d-u-v.org
SUMMARY:Ein Sommernachtstraum - Schwäbischer Waldweg Nachtlauf
DESCRIPTION: Ein Sommernachtstraum - Schwäbischer Waldweg Nachtlauf\n
  Gernot Wurst\n
  naswut[at]prospectum.com
DTSTART:20230721T210000
DTEND:20230722T200000
LOCATION:Mainhardt\, GER
URL:https://naswut.prospectum.com/2023_02_nachtlauf/
CATEGORIES:Ultramarathon
CONTACT:Gernot Wurst
CLASS:PUBLIC
PRIORITY:5
TRANSP:OPAQUE
END:VEVENT
END:VCALENDAR
