BEGIN:VCALENDAR
PRODID:-//http://statistik.d-u-v.org//PHP ultracalendar//EN
VERSION:2.0
METHOD:PUBLISH
BEGIN:VEVENT
DTSTAMP:20260419T200620
CREATED:20230713T125118
UID:1776629180.0.89994600-99487@statistik.d-u-v.org
SUMMARY:12hrs Sittard
DESCRIPTION: 12hrs Sittard\n
  Luciën Thijssen\n
  lucien.thijssen[at]gmail.com
DTSTART:20240323T210000
DTEND:20240324T090000
LOCATION:Sittard\, NED
URL:https://www.24hrssittard.com/
CATEGORIES:Ultramarathon
CONTACT:Luciën Thijssen
CLASS:PUBLIC
PRIORITY:5
TRANSP:OPAQUE
END:VEVENT
END:VCALENDAR
