BEGIN:VCALENDAR
PRODID:-//http://statistik.d-u-v.org//PHP ultracalendar//EN
VERSION:2.0
METHOD:PUBLISH
BEGIN:VEVENT
DTSTAMP:20260422T224919
CREATED:20230715T104145
UID:1776898159.0.30230300-99482@statistik.d-u-v.org
SUMMARY:Zehdenicker Ultra- und Staffellauf
DESCRIPTION: Zehdenicker Ultra- und Staffellauf\n
  \n
  info[at]kreuzundquer-swimrun.de
DTSTART:20240713T100000
DTEND:20240714T150000
LOCATION:Zehdenick\, GER
URL:https://zehdenicker-ultra-und-staffellauf.jimdosite.com/
CATEGORIES:Ultramarathon
CONTACT:
CLASS:PUBLIC
PRIORITY:5
TRANSP:OPAQUE
END:VEVENT
END:VCALENDAR
