BEGIN:VCALENDAR
PRODID:-//http://statistik.d-u-v.org//PHP ultracalendar//EN
VERSION:2.0
METHOD:PUBLISH
BEGIN:VEVENT
DTSTAMP:20260423T031325
CREATED:20230702T173440
UID:1776914005.0.54134700-99375@statistik.d-u-v.org
SUMMARY:H2 Ultra Trailrun - 50 km
DESCRIPTION: H2 Ultra Trailrun - 50 km\n
  Peter Strömdahl\n
  okskogsvargarna[at]gmail.com
DTSTART:20240914T070000
DTEND:00000000T235900
LOCATION:Vargön\, SWE
URL:http://www.okskogsvargarna.se
CATEGORIES:Ultramarathon
CONTACT:Peter Strömdahl
CLASS:PUBLIC
PRIORITY:5
TRANSP:OPAQUE
END:VEVENT
END:VCALENDAR
