BEGIN:VCALENDAR
PRODID:-//http://statistik.d-u-v.org//PHP ultracalendar//EN
VERSION:2.0
METHOD:PUBLISH
BEGIN:VEVENT
DTSTAMP:20260419T192407
CREATED:20230710T094123
UID:1776626647.0.96042500-99357@statistik.d-u-v.org
SUMMARY:Laufhaus Backyard Ultra
DESCRIPTION: Laufhaus Backyard Ultra\n
  Mike Sethmacher\n
  info[at]laufhaus-oderwitz.de
DTSTART:20240713T100000
DTEND:00000000T235900
LOCATION:Zittau\, GER
URL:http://www.laufhaus-oderwitz.de
CATEGORIES:Ultramarathon
CONTACT:Mike Sethmacher
CLASS:PUBLIC
PRIORITY:5
TRANSP:OPAQUE
END:VEVENT
END:VCALENDAR
