BEGIN:VCALENDAR
PRODID:-//http://statistik.d-u-v.org//PHP ultracalendar//EN
VERSION:2.0
METHOD:PUBLISH
BEGIN:VEVENT
DTSTAMP:20260422T221348
CREATED:20230701T060546
UID:1776896028.0.27745700-99207@statistik.d-u-v.org
SUMMARY:Six Days in the Dome - The Redux 72 Hour 50mi Split
DESCRIPTION: Six Days in the Dome - The Redux 72 Hour 50mi Split\n
  RD Mike Melton\n
  mike[at]mcmelton.com
DTSTART:20230616T000000
DTEND:20230619T235900
LOCATION:Milwaukee, WI\, USA
URL:https://www.run6days.com/
CATEGORIES:Ultramarathon
CONTACT:RD Mike Melton
CLASS:PUBLIC
PRIORITY:5
TRANSP:OPAQUE
END:VEVENT
END:VCALENDAR
