BEGIN:VCALENDAR
PRODID:-//http://statistik.d-u-v.org//PHP ultracalendar//EN
VERSION:2.0
METHOD:PUBLISH
BEGIN:VEVENT
DTSTAMP:20260420T001546
CREATED:20230629T102704
UID:1776644146.0.50835300-99149@statistik.d-u-v.org
SUMMARY:Sky Pilots Ouray Backyard Ultra
DESCRIPTION: Sky Pilots Ouray Backyard Ultra\n
  Eric Robinson or Ginny LaForme\n
  shortcutvelociraptor[at]gmail.com; truchaspeaks7[at]hotmail.com
DTSTART:20240518T090000
DTEND:20240520T235900
LOCATION:Ouray, CO\, USA
URL:http://skypilots.org/events/backyard.php
CATEGORIES:Ultramarathon
CONTACT:Eric Robinson or Ginny LaForme
CLASS:PUBLIC
PRIORITY:5
TRANSP:OPAQUE
END:VEVENT
END:VCALENDAR
