BEGIN:VCALENDAR
PRODID:-//http://statistik.d-u-v.org//PHP ultracalendar//EN
VERSION:2.0
METHOD:PUBLISH
BEGIN:VEVENT
DTSTAMP:20260424T205533
CREATED:20230628T085545
UID:1777064133.0.45115700-99059@statistik.d-u-v.org
SUMMARY:Spartan Trail - Bear Mountain Trail Challenge
DESCRIPTION: Spartan Trail - Bear Mountain Trail Challenge\n
  \n
  trail[at]spartan.com
DTSTART:20240504T070000
DTEND:00000000T235900
LOCATION:Tomkins Cove, NY\, USA
URL:https://www.spartantrail.com/bear-mountain-trail-challenge/
CATEGORIES:Ultramarathon
CONTACT:
CLASS:PUBLIC
PRIORITY:5
TRANSP:OPAQUE
END:VEVENT
END:VCALENDAR
