BEGIN:VCALENDAR
PRODID:-//http://statistik.d-u-v.org//PHP ultracalendar//EN
VERSION:2.0
METHOD:PUBLISH
BEGIN:VEVENT
DTSTAMP:20260422T221348
CREATED:20230619T081836
UID:1776896028.0.47914400-98929@statistik.d-u-v.org
SUMMARY:Zugspitz Ehrwald Trail
DESCRIPTION: Zugspitz Ehrwald Trail\n
  Julia Conrad PLAN B event company GmbH\n
  info[at]planb-event.com
DTSTART:20240614T230000
DTEND:00000000T235900
LOCATION:Ehrwald\, AUT
URL:http://www.zugspitz-ultratrail.com
CATEGORIES:Ultramarathon
CONTACT:Julia Conrad PLAN B event company GmbH
CLASS:PUBLIC
PRIORITY:5
TRANSP:OPAQUE
END:VEVENT
END:VCALENDAR
