BEGIN:VCALENDAR
PRODID:-//http://statistik.d-u-v.org//PHP ultracalendar//EN
VERSION:2.0
METHOD:PUBLISH
BEGIN:VEVENT
DTSTAMP:20260419T220831
CREATED:20230611T174014
UID:1776636511.0.69591400-98758@statistik.d-u-v.org
SUMMARY:The Bridge 100
DESCRIPTION: The Bridge 100\n
  Mark Cockbain\n
  
DTSTART:20240518T120000
DTEND:20240519T235900
LOCATION:Chepstow\, GBR
URL:https://www.cockbainevents.com/the-bridge-200
CATEGORIES:Ultramarathon
CONTACT:Mark Cockbain
CLASS:PUBLIC
PRIORITY:5
TRANSP:OPAQUE
END:VEVENT
END:VCALENDAR
