BEGIN:VCALENDAR
PRODID:-//http://statistik.d-u-v.org//PHP ultracalendar//EN
VERSION:2.0
METHOD:PUBLISH
BEGIN:VEVENT
DTSTAMP:20260424T234153
CREATED:20230607T114325
UID:1777074113.0.46421600-98691@statistik.d-u-v.org
SUMMARY:Xiamen Aoxi Mountain Trail
DESCRIPTION: Xiamen Aoxi Mountain Trail\n
  \n
  455363455[at]qq.com
DTSTART:20221211T073000
DTEND:00000000T235900
LOCATION:Xiamen City\, CHN
URL:http://www.runninginchina.org/event/event_view/3075.html
CATEGORIES:Ultramarathon
CONTACT:
CLASS:PUBLIC
PRIORITY:5
TRANSP:OPAQUE
END:VEVENT
END:VCALENDAR
