BEGIN:VCALENDAR
PRODID:-//http://statistik.d-u-v.org//PHP ultracalendar//EN
VERSION:2.0
METHOD:PUBLISH
BEGIN:VEVENT
DTSTAMP:20260420T214222
CREATED:20230606T175222
UID:1776721342.0.48578900-98680@statistik.d-u-v.org
SUMMARY:Swiss Canyon Trail 51K
DESCRIPTION: Swiss Canyon Trail 51K\n
  \n
  media[at]swisscanyontrail.com
DTSTART:20240608T071500
DTEND:00000000T235900
LOCATION:Couvet\, SUI
URL:http://swisscanyontrail.com/
CATEGORIES:Ultramarathon
CONTACT:
CLASS:PUBLIC
PRIORITY:5
TRANSP:OPAQUE
END:VEVENT
END:VCALENDAR
