BEGIN:VCALENDAR
PRODID:-//http://statistik.d-u-v.org//PHP ultracalendar//EN
VERSION:2.0
METHOD:PUBLISH
BEGIN:VEVENT
DTSTAMP:20260425T214141
CREATED:20230605T190330
UID:1777153301.0.48655800-98662@statistik.d-u-v.org
SUMMARY:Ultra Trail Challenge Race Beijing Labagou
DESCRIPTION: Ultra Trail Challenge Race Beijing Labagou\n
  \n
  
DTSTART:20230514T060000
DTEND:00000000T235900
LOCATION:Beijing City\, CHN
URL:https://itra.run/Races/RaceResults/Trail.de.Rodrigues.Perroquet.Trail/2022/78720
CATEGORIES:Ultramarathon
CONTACT:
CLASS:PUBLIC
PRIORITY:5
TRANSP:OPAQUE
END:VEVENT
END:VCALENDAR
