BEGIN:VCALENDAR
PRODID:-//http://statistik.d-u-v.org//PHP ultracalendar//EN
VERSION:2.0
METHOD:PUBLISH
BEGIN:VEVENT
DTSTAMP:20260423T034955
CREATED:20230603T145828
UID:1776916195.0.57151800-98612@statistik.d-u-v.org
SUMMARY:St. Cuthbert's Way 45 Mile Ultra
DESCRIPTION: St. Cuthbert's Way 45 Mile Ultra\n
  Tim Bateson\n
  tim[at]trailoutlaws.com
DTSTART:20230624T220000
DTEND:20230625T235900
LOCATION:Melrose\, GBR
URL:http://www.trailoutlaws.com
CATEGORIES:Ultramarathon
CONTACT:Tim Bateson
CLASS:PUBLIC
PRIORITY:5
TRANSP:OPAQUE
END:VEVENT
END:VCALENDAR
