BEGIN:VCALENDAR
PRODID:-//http://statistik.d-u-v.org//PHP ultracalendar//EN
VERSION:2.0
METHOD:PUBLISH
BEGIN:VEVENT
DTSTAMP:20260419T200438
CREATED:20070520T000000
UID:1776629078.0.13744500-983@statistik.d-u-v.org
SUMMARY:Sri Chinmoy 10 Day Race
DESCRIPTION: Sri Chinmoy 10 Day Race\n
  \n
  
DTSTART:20070426T000000
DTEND:20070506T235900
LOCATION:New York, NY\, USA
URL:
CATEGORIES:Ultramarathon
CONTACT:
CLASS:PUBLIC
PRIORITY:5
TRANSP:OPAQUE
END:VEVENT
END:VCALENDAR
