BEGIN:VCALENDAR
PRODID:-//http://statistik.d-u-v.org//PHP ultracalendar//EN
VERSION:2.0
METHOD:PUBLISH
BEGIN:VEVENT
DTSTAMP:20260419T220848
CREATED:20230516T141951
UID:1776636528.0.82448800-98175@statistik.d-u-v.org
SUMMARY:Stone Mill 50 Mile Run
DESCRIPTION: Stone Mill 50 Mile Run\n
  Barry Hauptman\n
  stonemill50[at]mcrrc.org
DTSTART:20231111T060000
DTEND:00000000T235900
LOCATION:Montgomery Village, MD\, USA
URL:http://stone-mill-50-mile.org/
CATEGORIES:Ultramarathon
CONTACT:Barry Hauptman
CLASS:PUBLIC
PRIORITY:5
TRANSP:OPAQUE
END:VEVENT
END:VCALENDAR
