BEGIN:VCALENDAR
PRODID:-//http://statistik.d-u-v.org//PHP ultracalendar//EN
VERSION:2.0
METHOD:PUBLISH
BEGIN:VEVENT
DTSTAMP:20260422T222536
CREATED:20230513T051524
UID:1776896736.0.44664300-98083@statistik.d-u-v.org
SUMMARY:One Track Mind 24 Hour Run
DESCRIPTION: One Track Mind 24 Hour Run\n
  Lisa Large & Joshua Heath\n
  onetrackmindultra[at]gmail.com
DTSTART:20211030T000000
DTEND:20211031T235900
LOCATION:Duncan, BC\, CAN
URL:https://raceroster.com/events/2020/35719/one-track-mind
CATEGORIES:Ultramarathon
CONTACT:Lisa Large & Joshua Heath
CLASS:PUBLIC
PRIORITY:5
TRANSP:OPAQUE
END:VEVENT
END:VCALENDAR
