BEGIN:VCALENDAR
PRODID:-//http://statistik.d-u-v.org//PHP ultracalendar//EN
VERSION:2.0
METHOD:PUBLISH
BEGIN:VEVENT
DTSTAMP:20260419T192355
CREATED:20230509T201236
UID:1776626635.0.37506600-97946@statistik.d-u-v.org
SUMMARY:Ultra-Trail Faroe islands
DESCRIPTION: Ultra-Trail Faroe islands\n
  \n
  
DTSTART:20230906T000000
DTEND:00000000T235900
LOCATION:Torshavn\, FRO
URL:https://www.atjanwildislands.com/plan-your-trip-trail-races
CATEGORIES:Ultramarathon
CONTACT:
CLASS:PUBLIC
PRIORITY:5
TRANSP:OPAQUE
END:VEVENT
END:VCALENDAR
