BEGIN:VCALENDAR
PRODID:-//http://statistik.d-u-v.org//PHP ultracalendar//EN
VERSION:2.0
METHOD:PUBLISH
BEGIN:VEVENT
DTSTAMP:20260423T040005
CREATED:20230509T173158
UID:1776916805.0.08583800-97943@statistik.d-u-v.org
SUMMARY:The Canyons Endurance 100 Km Run
DESCRIPTION: The Canyons Endurance 100 Km Run\n
  \n
  e3running[at]gmail.com
DTSTART:20240427T050000
DTEND:20240428T020000
LOCATION:Auburn, CA\, USA
URL:https://canyons.utmb.world/races/100K
CATEGORIES:Ultramarathon
CONTACT:
CLASS:PUBLIC
PRIORITY:5
TRANSP:OPAQUE
END:VEVENT
END:VCALENDAR
