BEGIN:VCALENDAR
PRODID:-//http://statistik.d-u-v.org//PHP ultracalendar//EN
VERSION:2.0
METHOD:PUBLISH
BEGIN:VEVENT
DTSTAMP:20260425T220306
CREATED:20211219T115227
UID:1777154586.0.30711800-97873@statistik.d-u-v.org
SUMMARY:Italian UMF Summer Ed. 100 km
DESCRIPTION: Italian UMF Summer Ed. 100 km\n
  Pasquale Brandi\n
  pasqual.brandi[at]tiscali.it
DTSTART:20230929T150000
DTEND:20230930T150000
LOCATION:Policoro (MT)\, ITA
URL:https://www.6giornidelpantano.com/
CATEGORIES:Ultramarathon
CONTACT:Pasquale Brandi
CLASS:PUBLIC
PRIORITY:5
TRANSP:OPAQUE
END:VEVENT
END:VCALENDAR
