BEGIN:VCALENDAR
PRODID:-//http://statistik.d-u-v.org//PHP ultracalendar//EN
VERSION:2.0
METHOD:PUBLISH
BEGIN:VEVENT
DTSTAMP:20260419T200611
CREATED:20230503T175339
UID:1776629171.0.70122300-97847@statistik.d-u-v.org
SUMMARY:Trail de Calabri
DESCRIPTION: Trail de Calabri\n
  \n
  cmt[at]mont-terrible.ch
DTSTART:20240413T070000
DTEND:00000000T235900
LOCATION:Fontenais\, SUI
URL:https://www.mont-terrible.ch
CATEGORIES:Ultramarathon
CONTACT:
CLASS:PUBLIC
PRIORITY:5
TRANSP:OPAQUE
END:VEVENT
END:VCALENDAR
