BEGIN:VCALENDAR
PRODID:-//http://statistik.d-u-v.org//PHP ultracalendar//EN
VERSION:2.0
METHOD:PUBLISH
BEGIN:VEVENT
DTSTAMP:20260419T183146
CREATED:20230430T114153
UID:1776623506.0.17790900-97765@statistik.d-u-v.org
SUMMARY:Promise Land 50K++
DESCRIPTION: Promise Land 50K++\n
  David Horton\n
  dhorton[at]liberty.edu
DTSTART:20240420T053000
DTEND:00000000T235900
LOCATION:Bedford, VA\, USA
URL:http://www.extremeultrarunning.com/
CATEGORIES:Ultramarathon
CONTACT:David Horton
CLASS:PUBLIC
PRIORITY:5
TRANSP:OPAQUE
END:VEVENT
END:VCALENDAR
