BEGIN:VCALENDAR
PRODID:-//http://statistik.d-u-v.org//PHP ultracalendar//EN
VERSION:2.0
METHOD:PUBLISH
BEGIN:VEVENT
DTSTAMP:20260425T235545
CREATED:20230427T155254
UID:1777161345.0.49466000-97746@statistik.d-u-v.org
SUMMARY:Täby Extreme Challenge (TEC) - Backyard
DESCRIPTION: Täby Extreme Challenge (TEC) - Backyard\n
  David Sundvall\n
  info[at]tec100.se
DTSTART:20240419T180000
DTEND:20240423T160000
LOCATION:Täby\, SWE
URL:http://new.tec100.se/
CATEGORIES:Ultramarathon
CONTACT:David Sundvall
CLASS:PUBLIC
PRIORITY:5
TRANSP:OPAQUE
END:VEVENT
END:VCALENDAR
