BEGIN:VCALENDAR
PRODID:-//http://statistik.d-u-v.org//PHP ultracalendar//EN
VERSION:2.0
METHOD:PUBLISH
BEGIN:VEVENT
DTSTAMP:20260421T184345
CREATED:20230428T030129
UID:1776797025.0.61510900-97711@statistik.d-u-v.org
SUMMARY:Rocky’s Backyard Ultra
DESCRIPTION: Rocky’s Backyard Ultra\n
  \n
  rockyroadadventures[at]yahoo.com
DTSTART:20230401T080000
DTEND:00000000T235900
LOCATION:Pioche, NV\, USA
URL:https://rockyroadadventuresnv.com/
CATEGORIES:Ultramarathon
CONTACT:
CLASS:PUBLIC
PRIORITY:5
TRANSP:OPAQUE
END:VEVENT
END:VCALENDAR
