BEGIN:VCALENDAR
PRODID:-//http://statistik.d-u-v.org//PHP ultracalendar//EN
VERSION:2.0
METHOD:PUBLISH
BEGIN:VEVENT
DTSTAMP:20260423T020337
CREATED:20230427T102005
UID:1776909817.0.69430800-97700@statistik.d-u-v.org
SUMMARY:Race for DFL
DESCRIPTION: Race for DFL\n
  \n
  amylane1[at]live.com
DTSTART:20221119T080000
DTEND:20221120T140000
LOCATION:Westfield,Massachusetts\, USA
URL:https://backyardultra.com/races/race-for-dfl/
CATEGORIES:Ultramarathon
CONTACT:
CLASS:PUBLIC
PRIORITY:5
TRANSP:OPAQUE
END:VEVENT
END:VCALENDAR
