BEGIN:VCALENDAR
PRODID:-//http://statistik.d-u-v.org//PHP ultracalendar//EN
VERSION:2.0
METHOD:PUBLISH
BEGIN:VEVENT
DTSTAMP:20260419T223057
CREATED:20230427T095425
UID:1776637857.0.72993900-97697@statistik.d-u-v.org
SUMMARY:Empower Backyard Ultra
DESCRIPTION: Empower Backyard Ultra\n
  \n
  jrusso.sms[at]gmail.com
DTSTART:20231021T080000
DTEND:20231023T235900
LOCATION:Lebanon, OH\, USA
URL:https://ultrasignup.com/register.aspx?did=93165
CATEGORIES:Ultramarathon
CONTACT:
CLASS:PUBLIC
PRIORITY:5
TRANSP:OPAQUE
END:VEVENT
END:VCALENDAR
