BEGIN:VCALENDAR
PRODID:-//http://statistik.d-u-v.org//PHP ultracalendar//EN
VERSION:2.0
METHOD:PUBLISH
BEGIN:VEVENT
DTSTAMP:20260423T020636
CREATED:20230424T131808
UID:1776909996.0.46287900-97582@statistik.d-u-v.org
SUMMARY:King Alfred's Way 200 Mile Race
DESCRIPTION: King Alfred's Way 200 Mile Race\n
  \n
  
DTSTART:20230811T060000
DTEND:20230814T190000
LOCATION:Winchester\, GBR
URL:https://kingalfredsway.run/
CATEGORIES:Ultramarathon
CONTACT:
CLASS:PUBLIC
PRIORITY:5
TRANSP:OPAQUE
END:VEVENT
END:VCALENDAR
