BEGIN:VCALENDAR
PRODID:-//http://statistik.d-u-v.org//PHP ultracalendar//EN
VERSION:2.0
METHOD:PUBLISH
BEGIN:VEVENT
DTSTAMP:20260422T175637
CREATED:20230421T192453
UID:1776880597.0.65263200-97553@statistik.d-u-v.org
SUMMARY:Backyard Ultra Polska
DESCRIPTION: Backyard Ultra Polska\n
  Paweł Żuk\n
  pawel.zuk1[at]op.pl
DTSTART:20230721T080000
DTEND:00000000T235900
LOCATION:Jablonna\, POL
URL:https://www.facebook.com/BackyardUltraPolska
CATEGORIES:Ultramarathon
CONTACT:Paweł Żuk
CLASS:PUBLIC
PRIORITY:5
TRANSP:OPAQUE
END:VEVENT
END:VCALENDAR
