BEGIN:VCALENDAR
PRODID:-//http://statistik.d-u-v.org//PHP ultracalendar//EN
VERSION:2.0
METHOD:PUBLISH
BEGIN:VEVENT
DTSTAMP:20260420T041210
CREATED:20230418T150557
UID:1776658330.0.57655100-97503@statistik.d-u-v.org
SUMMARY:Uka Pain - Welest fomm painas 100km
DESCRIPTION: Uka Pain - Welest fomm painas 100km\n
  \n
  info[at]swedenrunners.se
DTSTART:20230527T060000
DTEND:00000000T235900
LOCATION:Älvdalen\, SWE
URL:https://swedenrunners.se/uka-pain-ultra/
CATEGORIES:Ultramarathon
CONTACT:
CLASS:PUBLIC
PRIORITY:5
TRANSP:OPAQUE
END:VEVENT
END:VCALENDAR
