BEGIN:VCALENDAR
PRODID:-//http://statistik.d-u-v.org//PHP ultracalendar//EN
VERSION:2.0
METHOD:PUBLISH
BEGIN:VEVENT
DTSTAMP:20260423T023714
CREATED:20230417T171852
UID:1776911834.0.98463200-97484@statistik.d-u-v.org
SUMMARY:WTF Backyard Ultra
DESCRIPTION: WTF Backyard Ultra\n
  Olaf Szukalowicz\n
  mossarun.info[at]gmail.com
DTSTART:20240406T100000
DTEND:20240407T235900
LOCATION:Lindås, Älmhult\, SWE
URL:https://www.mossarun.com/wtf-backyard-ultra/
CATEGORIES:Ultramarathon
CONTACT:Olaf Szukalowicz
CLASS:PUBLIC
PRIORITY:5
TRANSP:OPAQUE
END:VEVENT
END:VCALENDAR
