BEGIN:VCALENDAR
PRODID:-//http://statistik.d-u-v.org//PHP ultracalendar//EN
VERSION:2.0
METHOD:PUBLISH
BEGIN:VEVENT
DTSTAMP:20260423T035000
CREATED:20230417T161648
UID:1776916200.0.39677500-97480@statistik.d-u-v.org
SUMMARY:BackYard Ultra Warmia
DESCRIPTION: BackYard Ultra Warmia\n
  Grzegorz Baran\n
  grzegorz_baran[at]aol.com
DTSTART:20230317T150000
DTEND:20230319T080000
LOCATION:Olsztyn\, POL
URL:https://www.facebook.com/BackYardUltraWarmia
CATEGORIES:Ultramarathon
CONTACT:Grzegorz Baran
CLASS:PUBLIC
PRIORITY:5
TRANSP:OPAQUE
END:VEVENT
END:VCALENDAR
