BEGIN:VCALENDAR
PRODID:-//http://statistik.d-u-v.org//PHP ultracalendar//EN
VERSION:2.0
METHOD:PUBLISH
BEGIN:VEVENT
DTSTAMP:20260422T194020
CREATED:20230413T181918
UID:1776886820.0.63551000-97360@statistik.d-u-v.org
SUMMARY:India Backyard Ultra
DESCRIPTION: India Backyard Ultra\n
  Gagan Deep Meena\n
  indiabackyard[at]gmail.com
DTSTART:20230211T070000
DTEND:20230213T130000
LOCATION:Delhi NCR\, IND
URL:https://backyardultra.com/races/india-backyard-ultra/
CATEGORIES:Ultramarathon
CONTACT:Gagan Deep Meena
CLASS:PUBLIC
PRIORITY:5
TRANSP:OPAQUE
END:VEVENT
END:VCALENDAR
