BEGIN:VCALENDAR
PRODID:-//http://statistik.d-u-v.org//PHP ultracalendar//EN
VERSION:2.0
METHOD:PUBLISH
BEGIN:VEVENT
DTSTAMP:20260419T185719
CREATED:20230413T155710
UID:1776625039.0.54104600-97356@statistik.d-u-v.org
SUMMARY:Umstead Endurance Run 50 Miles
DESCRIPTION: Umstead Endurance Run 50 Miles\n
  Rhonda Hampton\n
  racedirector[at]umstead100.org
DTSTART:20240406T060000
DTEND:20240407T235900
LOCATION:Raleigh, NC\, USA
URL:http://www.umstead100.org/
CATEGORIES:Ultramarathon
CONTACT:Rhonda Hampton
CLASS:PUBLIC
PRIORITY:5
TRANSP:OPAQUE
END:VEVENT
END:VCALENDAR
