BEGIN:VCALENDAR
PRODID:-//http://statistik.d-u-v.org//PHP ultracalendar//EN
VERSION:2.0
METHOD:PUBLISH
BEGIN:VEVENT
DTSTAMP:20260423T002732
CREATED:20230403T102051
UID:1776904052.0.15930500-97117@statistik.d-u-v.org
SUMMARY:Tamagawa Ultra Marathon - 100 km
DESCRIPTION: Tamagawa Ultra Marathon - 100 km\n
  \n
  info[at]outfitness.jp
DTSTART:20230423T063000
DTEND:00000000T235900
LOCATION:Tokyo City\, JPN
URL:https://earthrunclub.net/competition/20230423_tamagawa_nature_marathon_08/
CATEGORIES:Ultramarathon
CONTACT:
CLASS:PUBLIC
PRIORITY:5
TRANSP:OPAQUE
END:VEVENT
END:VCALENDAR
