BEGIN:VCALENDAR
PRODID:-//http://statistik.d-u-v.org//PHP ultracalendar//EN
VERSION:2.0
METHOD:PUBLISH
BEGIN:VEVENT
DTSTAMP:20260423T015947
CREATED:20230402T190208
UID:1776909587.0.76383100-97092@statistik.d-u-v.org
SUMMARY:Paleozoic Trail Runs - Cambrian Spring II 50K
DESCRIPTION: Paleozoic Trail Runs - Cambrian Spring II 50K\n
  Race Director Bill Thom\n
  bill[at]runrace.net
DTSTART:20230318T083000
DTEND:00000000T235900
LOCATION:Wood Springs, IL\, USA
URL:http://www.RunRace.net/paleozoic
CATEGORIES:Ultramarathon
CONTACT:Race Director Bill Thom
CLASS:PUBLIC
PRIORITY:5
TRANSP:OPAQUE
END:VEVENT
END:VCALENDAR
