BEGIN:VCALENDAR
PRODID:-//http://statistik.d-u-v.org//PHP ultracalendar//EN
VERSION:2.0
METHOD:PUBLISH
BEGIN:VEVENT
DTSTAMP:20260419T223053
CREATED:20221003T103724
UID:1776637853.0.98182500-97032@statistik.d-u-v.org
SUMMARY:Bullcamp Backyard Ultra
DESCRIPTION: Bullcamp Backyard Ultra\n
  Timothy Walsh\n
  timothy86walsh[at]gmail.com
DTSTART:20230715T000000
DTEND:00000000T235900
LOCATION:Nanango, QLD\, AUS
URL:https://www.deadcowgully.com.au/
CATEGORIES:Ultramarathon
CONTACT:Timothy Walsh
CLASS:PUBLIC
PRIORITY:5
TRANSP:OPAQUE
END:VEVENT
END:VCALENDAR
