BEGIN:VCALENDAR
PRODID:-//http://statistik.d-u-v.org//PHP ultracalendar//EN
VERSION:2.0
METHOD:PUBLISH
BEGIN:VEVENT
DTSTAMP:20260423T042040
CREATED:20230329T094527
UID:1776918040.0.83459300-97016@statistik.d-u-v.org
SUMMARY:Malatra Endurance Run 12h
DESCRIPTION: Malatra Endurance Run 12h\n
  Razif Yahya\n
  malatraevents[at]gmail.com
DTSTART:20230218T080000
DTEND:00000000T235900
LOCATION:Putrajaya\, MAS
URL:https://www.malatraevents.com/mer2023
CATEGORIES:Ultramarathon
CONTACT:Razif Yahya
CLASS:PUBLIC
PRIORITY:5
TRANSP:OPAQUE
END:VEVENT
END:VCALENDAR
