BEGIN:VCALENDAR
PRODID:-//http://statistik.d-u-v.org//PHP ultracalendar//EN
VERSION:2.0
METHOD:PUBLISH
BEGIN:VEVENT
DTSTAMP:20260419T223050
CREATED:20110111T175207
UID:1776637850.0.34263400-9683@statistik.d-u-v.org
SUMMARY:24 Hour Adventure Trail Run
DESCRIPTION: 24 Hour Adventure Trail Run\n
  \n
  
DTSTART:20110507T000000
DTEND:20110508T235900
LOCATION:Triangle, VA\, USA
URL:http://athletic-equation.com/24-HR_ATR.html
CATEGORIES:Ultramarathon
CONTACT:
CLASS:PUBLIC
PRIORITY:5
TRANSP:OPAQUE
END:VEVENT
END:VCALENDAR
