BEGIN:VCALENDAR
PRODID:-//http://statistik.d-u-v.org//PHP ultracalendar//EN
VERSION:2.0
METHOD:PUBLISH
BEGIN:VEVENT
DTSTAMP:20260424T124505
CREATED:20230319T145654
UID:1777034705.0.79347800-96748@statistik.d-u-v.org
SUMMARY:Canfranc-Canfranc Ultra 45 Kms
DESCRIPTION: Canfranc-Canfranc Ultra 45 Kms\n
  Alex Varela\n
  info[at]canfranccanfranc.com
DTSTART:20220909T080000
DTEND:00000000T235900
LOCATION:Canfranc-Estacion\, ESP
URL:http://canfranccanfranc.com/index.html
CATEGORIES:Ultramarathon
CONTACT:Alex Varela
CLASS:PUBLIC
PRIORITY:5
TRANSP:OPAQUE
END:VEVENT
END:VCALENDAR
