BEGIN:VCALENDAR
PRODID:-//http://statistik.d-u-v.org//PHP ultracalendar//EN
VERSION:2.0
METHOD:PUBLISH
BEGIN:VEVENT
DTSTAMP:20260420T035206
CREATED:20230316T165841
UID:1776657126.0.88429400-96636@statistik.d-u-v.org
SUMMARY:The Yeti 100 Mile Endurance Run
DESCRIPTION: The Yeti 100 Mile Endurance Run\n
  \n
  
DTSTART:20230929T070000
DTEND:20230930T235900
LOCATION:Whitetop, VA\, USA
URL:http://www.yetitrailrunners.com/
CATEGORIES:Ultramarathon
CONTACT:
CLASS:PUBLIC
PRIORITY:5
TRANSP:OPAQUE
END:VEVENT
END:VCALENDAR
